BEGIN:VCALENDAR
VERSION:2.0
PRODID:-//ERT//LNF26//DE
VERSION:2.0
BEGIN:VEVENT
UID:station_6266_20260324T160000Z
DTSTAMP:20260422T075600Z
URL:https://ert.langenachtderforschung.at/station/6266
DTSTART:20260324T160000Z
DTEND:20260424T210000Z
SUMMARY:[LNF26] Mit Freud Träumen
DESCRIPTION:Für Freud war der Traum der Königsweg zum Unbewussten. Manchmal erinnern wir uns am Morgen noch an alles, was wir in der Nacht zuvor geträumt haben. Notieren Sie an dieser Station Ihren Traum oder Ihre aktuellen Ideen und Phantasien in unser großes Traumbuch.
LOCATION:Spitalgasse 23, 1090 Wien
GEO:48.22029156;16.35096419
END:VEVENT
END:VCALENDAR