BEGIN:VCALENDAR
VERSION:2.0
PRODID:-//ERT//LNF26//DE
VERSION:2.0
BEGIN:VEVENT
UID:station_6267_20260324T160000Z
DTSTAMP:20260422T075500Z
URL:https://ert.langenachtderforschung.at/station/6267
DTSTART:20260324T160000Z
DTEND:20260424T210000Z
SUMMARY:[LNF26] Wer war Ignaz Semmelweis? - Sein Leben, Sein Vermächtnis
DESCRIPTION:Erleben Sie Ignaz Semmelweis interaktiv!\nBei der Langen Nacht der Forschung 2026 laden wir Sie am Semmelweis-Denkmal zu einer Mitmachstation rund um Händehygiene ein. Desinfizieren Sie Ihre Hände, prüfen Sie das \nErgebnis im UV-Scanner und entdecken Sie das Vermächtnis des Pioniers der Infektionsprävention.
LOCATION:Spitalgasse 23, 1090 Wien
GEO:48.21988253;16.35069291
END:VEVENT
END:VCALENDAR