BEGIN:VCALENDAR
VERSION:2.0
PRODID:-//ERT//LNF26//DE
VERSION:2.0
BEGIN:VEVENT
UID:station_6268_20260324T160000Z
DTSTAMP:20260422T074800Z
URL:https://ert.langenachtderforschung.at/station/6268
DTSTART:20260324T160000Z
DTEND:20260424T210000Z
SUMMARY:[LNF26] Gustav Klimt Fassade: &#34;Die Medizin&#34;
DESCRIPTION:Erfahren Sie in diesem Video mehr darüber wie das Team des Google Arts & Culture Lab gemeinsam mit \ndem international renommierten Klimt-Forscher und Kurator am Wiener Belvedere, Dr. Franz Smola, Machine Learning einsetzte, um zu rekonstruieren, welche Farben Klimt für die Fakultätsbilder verwendet haben könnte.
LOCATION:Lazarettgassenweg, 1090 Wien
GEO:48.21952171;16.34824737
END:VEVENT
END:VCALENDAR