BEGIN:VCALENDAR
VERSION:2.0
PRODID:-//ERT//LNF26//DE
VERSION:2.0
BEGIN:VEVENT
UID:station_6269_20260324T160000Z
DTSTAMP:20260422T075600Z
URL:https://ert.langenachtderforschung.at/station/6269
DTSTART:20260324T160000Z
DTEND:20260424T210000Z
SUMMARY:[LNF26] Was ist translationale Medizin?
DESCRIPTION:In der Translationalen Medizin geht es darum, wissenschaftliche Erkenntnisse möglichst schnell und gezielt in konkrete Diagnostik- und Therapieverfahren für Patient:innen zu überführen. Erfahren Sie an dieser Station mehr über das aktuelle Bauprojekt an der Medizinischen Universität Wien.
LOCATION:Lazarettgassenweg, 1090 Wien
GEO:48.21925982;16.34809137
END:VEVENT
END:VCALENDAR