BEGIN:VCALENDAR
VERSION:2.0
PRODID:-//ERT//LNF26//DE
VERSION:2.0
BEGIN:VEVENT
UID:station_6292_20260324T160000Z
DTSTAMP:20260420T003100Z
URL:https://ert.langenachtderforschung.at/station/6292
DTSTART:20260324T160000Z
DTEND:20260424T200000Z
SUMMARY:[LNF26] Können wir Holz und Kunststoff verschweißen?
DESCRIPTION:Hast du gewusst, dass man Holz und Polymere – also Kunststoffe – miteinander verschweißen kann? Und das noch dazu mittels Ultraschall? Diese Technik ist nicht nur interessant, sondern auch für unsere Umwelt sehr wichtig, weil wir so in Zukunft den nachwachsenden Rohstoff Holz zum Beispiel für die Karosserie von Autos oder Flugzeugen verwenden könnten.
LOCATION:Steyrergasse 17, 8010 Graz
GEO:47.06391610;15.45324900
END:VEVENT
END:VCALENDAR