BEGIN:VCALENDAR
VERSION:2.0
PRODID:-//ERT//LNF26//DE
VERSION:2.0
BEGIN:VEVENT
UID:station_6295_20260324T160000Z
DTSTAMP:20260422T075200Z
URL:https://ert.langenachtderforschung.at/station/6295
DTSTART:20260324T160000Z
DTEND:20260424T210000Z
SUMMARY:[LNF26] Erkundung des Unsichtbaren
DESCRIPTION:Besucher:innen können anhand einer fixierten Zellplatte Zellschäden, die durch das Masernvirus verursacht werden, unter dem Mikroskop betrachten. Zusätzlich lädt eine interaktive Tafel dazu ein, verschiedene Viren ihren typischen klinischen Symptomen zuzuordnen.
LOCATION:Währinger Gürtel  18-20, 1090 Wien
GEO:48.21973561;16.34864900
END:VEVENT
END:VCALENDAR