BEGIN:VCALENDAR
VERSION:2.0
PRODID:-//ERT//LNF26//DE
VERSION:2.0
BEGIN:VEVENT
UID:station_6298_20260324T160000Z
DTSTAMP:20260421T003000Z
URL:https://ert.langenachtderforschung.at/station/6298
DTSTART:20260324T160000Z
DTEND:20260424T210000Z
SUMMARY:[LNF26] Sind alte Knochen mehr als Relikte?
DESCRIPTION:Anthropolog:innen erforschen, wie Menschen in früheren Zeiten gelebt haben. Sie sammeln als Detektiv:innen der Vergangenheit Spuren und Hinweise, um die Lebensgeschichten längst verstorbener Menschen zu rekonstruieren. So lassen sich aus alten Knochen erstaunliche Informationen gewinnen. War die Person ein Mann oder eine Frau, erwachsen oder ein Kind? Wie alt wurde sie? War sie krank oder gesund?
LOCATION:Schlossgasse 1, 2151 Asparn/Zaya
GEO:48.58882465;16.49122819
END:VEVENT
END:VCALENDAR