BEGIN:VCALENDAR
VERSION:2.0
PRODID:-//ERT//LNF26//DE
VERSION:2.0
BEGIN:VEVENT
UID:station_6303_20260324T160000Z
DTSTAMP:20260420T003200Z
URL:https://ert.langenachtderforschung.at/station/6303
DTSTART:20260324T160000Z
DTEND:20260424T210000Z
SUMMARY:[LNF26] Was macht moderne Technik eigentlich „intelligent“?
DESCRIPTION:Erlebt, wie Technik „mitdenkt“! Bei NXP erforschen wir, wie Geräte lernen, fühlen und sicher handeln können – ganz ohne Magie, sondern mit cleverer Elektronik. Entdeckt spielerisch, wie Autos, Roboter oder Alltagsgeräte Informationen verstehen, Entscheidungen treffen und miteinander kommunizieren.
LOCATION:Stremayrgasse 16, 8010 Graz
GEO:47.06503320;15.45223260
END:VEVENT
END:VCALENDAR