BEGIN:VCALENDAR
VERSION:2.0
PRODID:-//ERT//LNF26//DE
VERSION:2.0
BEGIN:VEVENT
UID:station_6310_20260324T160000Z
DTSTAMP:20260420T003100Z
URL:https://ert.langenachtderforschung.at/station/6310
DTSTART:20260324T160000Z
DTEND:20260424T210000Z
SUMMARY:[LNF26] Cyanobakterien essen Licht?
DESCRIPTION:Nicht ganz. Aber sie nutzen Licht auf unterschiedlichste Arten, um in Bioreaktoren verschiedenste Verbindungen nachhaltig zu erzeugen. Was das genau ist, wofür wir das brauchen und wie es genau funktioniert, erklären dir Forschende des Instituts für Molekulare Biotechnologie. Außerdem kannst du dich selbst als Biotechnolog:in betätigen und enzymatische Reaktionen erforschen.
LOCATION:Petersgasse 14, 8010 Graz
GEO:47.06507760;15.45282470
END:VEVENT
END:VCALENDAR