BEGIN:VCALENDAR
VERSION:2.0
PRODID:-//ERT//LNF26//DE
VERSION:2.0
BEGIN:VEVENT
UID:station_6324_20260324T160000Z
DTSTAMP:20260422T075500Z
URL:https://ert.langenachtderforschung.at/station/6324
DTSTART:20260324T160000Z
DTEND:20260424T210000Z
SUMMARY:[LNF26] Was sticht mich denn da? - Einblick in die Welt der medizinisch relevanten Insekten und Zecken in Österreich
DESCRIPTION:Die Station “Was sticht mich denn da? - Einblick in die Welt der medizinisch relevanten Insekten und Zecken in Österreich” gibt Besucher:innen einen Überblick über die medizinisch relevante Arthropoden-Fauna (Insekten und Zecken) in Österreich.
LOCATION:Währinger Gürtel  18-20, 1090 Wien
GEO:48.21973561;16.34864900
END:VEVENT
END:VCALENDAR