BEGIN:VCALENDAR
VERSION:2.0
PRODID:-//ERT//LNF26//DE
VERSION:2.0
BEGIN:VEVENT
UID:station_6406_20260324T160000Z
DTSTAMP:20260421T083100Z
URL:https://ert.langenachtderforschung.at/station/6406
DTSTART:20260324T160000Z
DTEND:20260424T210000Z
SUMMARY:[LNF26] Wie verändert KI die Rolle des Menschen insoziotechnischen Systemen?
DESCRIPTION:Die KI verändert gerade unsere Gesellschaft und damit auch die Wirtschaft. Die Wirtschaftsinformatik stellt sich die Frage: Ist KI nur eine Technologie oder beeinflusst ihre Anwendung langfristig auch die Stellung des Menschen im unternehmerischen Kontext? Finden Sie es heraus!
LOCATION:Altenberger Straße 69, 4040 Urfahr
GEO:48.33601955;14.32010751
END:VEVENT
END:VCALENDAR