BEGIN:VCALENDAR
VERSION:2.0
PRODID:-//ERT//LNF26//DE
VERSION:2.0
BEGIN:VEVENT
UID:station_6429_20260324T160000Z
DTSTAMP:20260421T083000Z
URL:https://ert.langenachtderforschung.at/station/6429
DTSTART:20260324T160000Z
DTEND:20260424T210000Z
SUMMARY:[LNF26] Wie funktioniert multimediales Jus-Studieren?
DESCRIPTION:Das Institut für Multimediale Linzer Rechtsstudien betreut das in Österreich einzigartige Multimedia-Diplomstudium der Rechtswissenschaften der JKU Linz. Dieses Studium nutzt die moderne Technik, um ein zeit- und ortsunabhängiges Jus-Studieren mit größtmöglicher Lernautonomie zu ermöglichen. Probieren Sie die multimedialen Lernmaterialen an der Station aus und sehen Sie sich Publikationen des Instituts an!
LOCATION:Altenberger Straße 69, 4040 Urfahr
GEO:48.33601955;14.32010751
END:VEVENT
END:VCALENDAR