BEGIN:VCALENDAR
VERSION:2.0
PRODID:-//ERT//LNF26//DE
VERSION:2.0
BEGIN:VEVENT
UID:station_6467_20260324T160000Z
DTSTAMP:20260421T083200Z
URL:https://ert.langenachtderforschung.at/station/6467
DTSTART:20260324T160000Z
DTEND:20260424T210000Z
SUMMARY:[LNF26] Ist die Programmierung von Robotern ein Kinderspiel?
DESCRIPTION:Sie blinken, fahren und sind einfach süß. Unsere Ozobots können mit bunten Linien programmiert werden und bieten Kindern den perfekten Einstieg in die Welt der Informatik und Robotik. Das Projekt Girl Bo(T)s_s möchte besonders Mädchen für die Beschäftigung mit Chancen und Gefahren digitaler Technologien begeistern. Dadurch werden Geschlechterstereotype abgebaut und vor allem: Spiel und Spaß an Programmierung erlebt.
LOCATION:Altenberger Straße 69, 4040 Urfahr
GEO:48.33601955;14.32010751
END:VEVENT
END:VCALENDAR