BEGIN:VCALENDAR
VERSION:2.0
PRODID:-//ERT//LNF26//DE
VERSION:2.0
BEGIN:VEVENT
UID:station_6489_20260324T160000Z
DTSTAMP:20260421T002400Z
URL:https://ert.langenachtderforschung.at/station/6489
DTSTART:20260324T160000Z
DTEND:20260424T184500Z
SUMMARY:[LNF26] Jugendliche auf der Flucht - früher und heute
DESCRIPTION:Unbegleitete Jugendliche auf der Flucht sind eine besonders verletzliche Gruppe. \n\nUnser Projekt vergleicht die Erfahrungen von zwei Gruppen: \nJüdische Jugendliche, die 1938 bis 1945 vor den Nationalsozialisten aus Österreich fliehen mussten, und junge Menschen, die zwischen 2015 und heute aufgrund von Krieg und Verfolgung ihre Heimatländer verlassen haben.
LOCATION:Campus-Platz 1, 3100 St. Pölten
GEO:48.21313058;15.63179719
END:VEVENT
END:VCALENDAR