BEGIN:VCALENDAR
VERSION:2.0
PRODID:-//ERT//LNF26//DE
VERSION:2.0
BEGIN:VEVENT
UID:station_6491_20260324T160000Z
DTSTAMP:20260421T003300Z
URL:https://ert.langenachtderforschung.at/station/6491
DTSTART:20260324T160000Z
DTEND:20260424T184500Z
SUMMARY:[LNF26] Alles OK?-Der Saugroboter der Hilfe holt
DESCRIPTION:Staubsaugen kann jeder – aber kann dein Roboter auch Leben retten?\nWir zeigen den „Smart Companion“: Ein umgebauter Saugroboter, der nicht nur putzt, sondern dank Künstlicher Intelligenz erkennt, wenn jemand gestürzt ist. \nEr fragt nach, ob alles okay ist, und holt im Notfall Hilfe. \nErfahren Sie, wie diese Technik älteren Menschen hilft, warum der Roboter einen „Katzen-Filter“ brauchte und was er wirklich sieht.
LOCATION:Campus-Platz 1, 3100 St. Pölten
GEO:48.21313058;15.63179719
END:VEVENT
END:VCALENDAR