BEGIN:VCALENDAR
VERSION:2.0
PRODID:-//ERT//LNF26//DE
VERSION:2.0
BEGIN:VEVENT
UID:station_6492_20260324T160000Z
DTSTAMP:20260421T015400Z
URL:https://ert.langenachtderforschung.at/station/6492
DTSTART:20260324T160000Z
DTEND:20260424T184500Z
SUMMARY:[LNF26] Ergo4ALL – Weiß mein Handy, wie ich mich gesund bewege?
DESCRIPTION:Wie sitzt, steht und bewegt sich dein Körper? \nAn unserer Mitmachstation kannst du mit der KI-App "Ergo4A" deine Bewegungen filmen und sehen, wie ergonomisch sie sind. Eine lustige Figur zeigt dir, wo dein Körper stark belastet wird – und du lernen spielerisch, wie du dich gesünder bewegst. \nForschen, ausprobieren und staunen!
LOCATION:Campus-Platz 1, 3100 St. Pölten
GEO:48.21313058;15.63179719
END:VEVENT
END:VCALENDAR