BEGIN:VCALENDAR
VERSION:2.0
PRODID:-//ERT//LNF26//DE
VERSION:2.0
BEGIN:VEVENT
UID:station_6495_20260324T160000Z
DTSTAMP:20260421T002400Z
URL:https://ert.langenachtderforschung.at/station/6495
DTSTART:20260324T160000Z
DTEND:20260424T184500Z
SUMMARY:[LNF26] Alfred, Bertha und der Frieden
DESCRIPTION:Wir setzen uns mit den Themen Frieden und friedlicher Konfliktlösung auseinander. Bertha von Suttner hat vor 120 Jahren den Friedensnobelpreis erhalten. Besucher:innen können bei unserer Station in ihre Welt eintauchen: Lasse dich mit Bertha fotografieren. Erschaffe ein großformatiges Kunstwerk aus selbst gestalteten Friedenstauben. Erfahre mehr zu den Themen Frieden und friedliche Konfliktlösung.
LOCATION:Campus-Platz 1, 3100 St. Pölten
GEO:48.21313058;15.63179719
END:VEVENT
END:VCALENDAR