BEGIN:VCALENDAR
VERSION:2.0
PRODID:-//ERT//LNF26//DE
VERSION:2.0
BEGIN:VEVENT
UID:station_6496_20260324T160000Z
DTSTAMP:20260421T002200Z
URL:https://ert.langenachtderforschung.at/station/6496
DTSTART:20260324T160000Z
DTEND:20260424T184500Z
SUMMARY:[LNF26] Wie können wir gemeinsam - mit einem Animationsfilm - den öffentlichen Raum verändern?
DESCRIPTION:Raum ist nicht einfach da. Er wird im selbstverständlichen Tun im Alltag hergestellt. Zufällige Begegnungen und gemeinsames, spielerisches Gestalten brechen dieses Tun auf, sodass es neu erfahrbar wird. Mit der gemeinsamen Produktion eines Animationsfilms (Stop-Motion-Video) setzen wir diese Idee konkret um.
LOCATION:Campus-Platz 1, 3100 St. Pölten
GEO:48.21313058;15.63179719
END:VEVENT
END:VCALENDAR