BEGIN:VCALENDAR
VERSION:2.0
PRODID:-//ERT//LNF26//DE
VERSION:2.0
BEGIN:VEVENT
UID:station_6497_20260324T160000Z
DTSTAMP:20260421T002300Z
URL:https://ert.langenachtderforschung.at/station/6497
DTSTART:20260324T160000Z
DTEND:20260424T184500Z
SUMMARY:[LNF26] Wer sind die Pantomim:innen gegen den Rechtsruck?
DESCRIPTION:Ist Ihnen schon ein:e unserer Pantomim:innen begegnet? \nBei den Pantomim:innen handelt es sich um Studierende der Sozialen Arbeit, die im Rahmen eines Projektes den politischen Rechstruck in Österreich erforscht haben. Sie treten über Impulse und Gespräche mit Ihnen in Kontakt und laden zur Reflexion, Positionierung und Mitwirkung ein.
LOCATION:Campus-Platz 1, 3100 St. Pölten
GEO:48.21313058;15.63179719
END:VEVENT
END:VCALENDAR