BEGIN:VCALENDAR
VERSION:2.0
PRODID:-//ERT//LNF26//DE
VERSION:2.0
BEGIN:VEVENT
UID:station_6499_20260324T160000Z
DTSTAMP:20260421T002300Z
URL:https://ert.langenachtderforschung.at/station/6499
DTSTART:20260324T160000Z
DTEND:20260424T184500Z
SUMMARY:[LNF26] Wie können wir den Weg unserer Lebensmittel verfolgen?
DESCRIPTION:Das Projekt „DPP4Food“ untersucht die Einführung eines digitalen Produktpasses für Lebensmittel. Als Beispiel zeigen wir einen Anwendungsfall für die Sojabohnen-Lieferkette. Im Digitalen Produktpass werden alle Schritte von der Herkunft und Ernte über die Weiterverarbeitung, Verpackung und Distribution nachvollziehbar festgehalten. \nWeiters können Sie an einer Live-Umfrage zu Digitalen Produktpässen teilnehmen.
LOCATION:Campus-Platz 1, 3100 St. Pölten
GEO:48.21313058;15.63179719
END:VEVENT
END:VCALENDAR