BEGIN:VCALENDAR
VERSION:2.0
PRODID:-//ERT//LNF26//DE
VERSION:2.0
BEGIN:VEVENT
UID:station_6500_20260324T160000Z
DTSTAMP:20260421T002200Z
URL:https://ert.langenachtderforschung.at/station/6500
DTSTART:20260324T160000Z
DTEND:20260424T184500Z
SUMMARY:[LNF26] Was weißt du über KI?
DESCRIPTION:KI- Tools wie ChatGPT verändern unser Informationsverhalten grundlegend. Was früher gegoogelt wurde, wird heute „gepromptet“.\nDoch wie vertrauenswürdig sind KI-generierte Inhalte wirklich? Und wie kann ich das beurteilen? \nBei dieser Mitmach-Station können Besucher:innen KI-Mythen entlarven und ihr Wissen spielerisch testen und erweitern.
LOCATION:Campus-Platz 1, 3100 St. Pölten
GEO:48.21313058;15.63179719
END:VEVENT
END:VCALENDAR