BEGIN:VCALENDAR
VERSION:2.0
PRODID:-//ERT//LNF26//DE
VERSION:2.0
BEGIN:VEVENT
UID:station_6501_20260324T160000Z
DTSTAMP:20260421T002200Z
URL:https://ert.langenachtderforschung.at/station/6501
DTSTART:20260324T160000Z
DTEND:20260424T184500Z
SUMMARY:[LNF26] 30 Bilder pro Sekunde – Wie kann man mit Smartphone und KI die eigene Bewegung besser verstehen?
DESCRIPTION:Wie sieht eine Künstliche Intelligenz Bewegung? Werden Sie selbst zum Forschungsmodell! \nWir filmen Sie kurz mit dem Smartphone und verwandeln Sie in ein digitales 3D-Modell, das jede Ihrer Gesten messbar macht. Entdecken Sie hautnah, wie moderne Software menschliche Abläufe versteht und warum diese Daten im Profisport und der Medizin so wertvoll sind.
LOCATION:Campus-Platz 1, 3100 St. Pölten
GEO:48.21313058;15.63179719
END:VEVENT
END:VCALENDAR