BEGIN:VCALENDAR
VERSION:2.0
PRODID:-//ERT//LNF26//DE
VERSION:2.0
BEGIN:VEVENT
UID:station_6502_20260324T160000Z
DTSTAMP:20260421T002200Z
URL:https://ert.langenachtderforschung.at/station/6502
DTSTART:20260324T160000Z
DTEND:20260424T184500Z
SUMMARY:[LNF26] Wie kann man mit Virtueller Realität das „Einfrieren des Gangs“ bei Parkinson untersuchen?
DESCRIPTION:Parkinson ist die zweithäufigste neurodegenerative Erkrankung und geht in fortgeschrittenen Stadien häufig mit Gangstörungen einher. Das „Einfrieren des Gangs“(Freezing of Gait=FOG) schränkt die Mobilität stark ein und erhöht das Sturzrisiko. Das Projekt „VReeze“ erforscht FOG mit Virtual Reality (VR), indem typische Alltagsauslöser wie enge Korridore, Türschwellen oder Menschenmengen simuliert werden.
LOCATION:Campus-Platz 1, 3100 St. Pölten
GEO:48.21313058;15.63179719
END:VEVENT
END:VCALENDAR