BEGIN:VCALENDAR
VERSION:2.0
PRODID:-//ERT//LNF26//DE
VERSION:2.0
BEGIN:VEVENT
UID:station_6503_20260324T160000Z
DTSTAMP:20260421T002500Z
URL:https://ert.langenachtderforschung.at/station/6503
DTSTART:20260324T160000Z
DTEND:20260424T184500Z
SUMMARY:[LNF26] Wie gut schlafen wir eigentlich im Nachtzug?
DESCRIPTION:Schlafen im Nachtzug ist etwas besonders – aber wie gut schlafen wir dort eigentlich? Das lässt sich an unserer Station herausfinden. Wir zeigen welche Messgeräte und Sensoren in der Forschung zum Einsatz kommen, um die Schlafqualität zu untersuchen. Besucher:innen erfahren, wie Forscher:innen Daten erheben und warum Schlafqualität eine wichtige Rolle für die Zukunft komfortabler Nachtzugwagen spielt.
LOCATION:Campus-Platz 1, 3100 St. Pölten
GEO:48.21313058;15.63179719
END:VEVENT
END:VCALENDAR