BEGIN:VCALENDAR
VERSION:2.0
PRODID:-//ERT//LNF26//DE
VERSION:2.0
BEGIN:VEVENT
UID:station_6504_20260324T160000Z
DTSTAMP:20260421T002400Z
URL:https://ert.langenachtderforschung.at/station/6504
DTSTART:20260324T160000Z
DTEND:20260424T184500Z
SUMMARY:[LNF26] Wie kann ein selbstfahrender Güterwagen den Schienengüterverkehr bis 2030 verändern?
DESCRIPTION:Wie können selbstfahrende Güterwagen künftig die erste und letzte Meile im Schienengüterverkehr - die Güterzustellung auf der Schiene - übernehmen? \nBesucher:innen erfahren, welche Technologie dahintersteckt und wie existierende Wagen nachgerüstet werden können. Es wird gezeigt, warum solche Lösungen wichtig sind, um eine Verkehrsverlagerung auf die Schiene voranzutreiben, und wie uns das bis 2030 gelingen kann.
LOCATION:Campus-Platz 1, 3100 St. Pölten
GEO:48.21313058;15.63179719
END:VEVENT
END:VCALENDAR