BEGIN:VCALENDAR
VERSION:2.0
PRODID:-//ERT//LNF26//DE
VERSION:2.0
BEGIN:VEVENT
UID:station_6505_20260324T160000Z
DTSTAMP:20260421T002400Z
URL:https://ert.langenachtderforschung.at/station/6505
DTSTART:20260324T160000Z
DTEND:20260424T184500Z
SUMMARY:[LNF26] Wie kann ich von der Langen Nacht der Forschung an der USTP in die Räume des Schlosses Lengenfeld springen?
DESCRIPTION:Die Künstlerin und Galeristin Christa Hauer und ihr Mann kauften 1970 das Schloss Lengenfeld in der Nähe von Krems und machten es mit Ausstellungen, Theatervorstellungen, Konzerten, Festen und Symposien zu einem Treffpunkt für Kunst- und Kulturinteressierte. Mittels App können Sie von der Ferne unmittelbar in die Räume des Schlosses Lengenfeld eintauchen und die Arbeit von Christa Hauer-Fruhmann kennenlernen.
LOCATION:Campus-Platz 1, 3100 St. Pölten
GEO:48.21313058;15.63179719
END:VEVENT
END:VCALENDAR