BEGIN:VCALENDAR
VERSION:2.0
PRODID:-//ERT//LNF26//DE
VERSION:2.0
BEGIN:VEVENT
UID:station_6507_20260324T160000Z
DTSTAMP:20260421T002400Z
URL:https://ert.langenachtderforschung.at/station/6507
DTSTART:20260324T160000Z
DTEND:20260424T184500Z
SUMMARY:[LNF26] Wie wird man erfolgreiche:r Content Creator:in auf TikTok und Co.?
DESCRIPTION:Hast du dich schon mal gefragt, wie man erfolgreiche:r Content Creator:in wird? In unserer Mitmach-Station kannst du es selbst ausprobieren! Finde bei unserem Spiel heraus, worauf du achten musst, was du mitbringen solltest und welche Herausforderungen es gibt. Außerdem kannst du einiges über unser aktuelles Projekt lernen, das sich mit diesen Fragen beschäftigt, und an einer kleinen interaktiven Umfrage teilnehmen.
LOCATION:Campus-Platz 1, 3100 St. Pölten
GEO:48.21313058;15.63179719
END:VEVENT
END:VCALENDAR