BEGIN:VCALENDAR
VERSION:2.0
PRODID:-//ERT//LNF26//DE
VERSION:2.0
BEGIN:VEVENT
UID:station_6508_20260324T160000Z
DTSTAMP:20260421T002500Z
URL:https://ert.langenachtderforschung.at/station/6508
DTSTART:20260324T160000Z
DTEND:20260424T184500Z
SUMMARY:[LNF26] Echte Chef:innen spielen LEGO® - Der DIHOST zeigt was in ihm steckt!
DESCRIPTION:Wusstest du auch schon einmal einfach nicht mehr weiter? Wie löse ich dieses knifflige Problem nur? Nachdenken, Kopf zermartern, grübeln und überlegen. Wir machen das so: Probieren geht über Studieren. Mit LEGO®-Steinen lassen sich eigentlich alle Probleme ganz einfach lösen. Als Kind, in der Schule und sogar im Unternehmen! Wir zeigen dir wie!
LOCATION:Campus-Platz 1, 3100 St. Pölten
GEO:48.21313058;15.63179719
END:VEVENT
END:VCALENDAR