BEGIN:VCALENDAR
VERSION:2.0
PRODID:-//ERT//LNF26//DE
VERSION:2.0
BEGIN:VEVENT
UID:station_6509_20260324T160000Z
DTSTAMP:20260421T002500Z
URL:https://ert.langenachtderforschung.at/station/6509
DTSTART:20260324T160000Z
DTEND:20260424T184500Z
SUMMARY:[LNF26] XR in der Ergotherapie für den ökologischen Handabdruck
DESCRIPTION:Was haben Extended Reality (XR), Ergotherapie und der Klimawandel gemeinsam? Mehr, als man auf den ersten Blick denkt. Green Touch erforscht, wie immersive Technologien helfen können, sowohl die eigene Gesundheit als auch das Wohl unseres Planeten zu fördern. In einer faszinierenden Verbindung von XR und Ergotherapie entsteht ein neues Bewusstsein für planetare Gesundheit – erlebbar, interaktiv und zum Mitmachen.
LOCATION:Campus-Platz 1, 3100 St. Pölten
GEO:48.21313058;15.63179719
END:VEVENT
END:VCALENDAR