BEGIN:VCALENDAR
VERSION:2.0
PRODID:-//ERT//LNF26//DE
VERSION:2.0
BEGIN:VEVENT
UID:station_6510_20260424T161500Z
DTSTAMP:20260421T001700Z
URL:https://ert.langenachtderforschung.at/station/6510
DTSTART:20260424T161500Z
DTEND:20260424T171500Z
SUMMARY:[LNF26] Steampunk Mystery Labor
DESCRIPTION:Taucht ein in einen packenden Steampunk-Mystery-Escape-Room! In einem verlassenen Labor kämpfen während eines Schnecken-Virus-Ausbruchs Teams gegen die Zeit, um ein Heilmittel zu finden. Arbeitet gemeinsam durch einzigartige Rätselstationen, die jeweils spezialisierte Fähigkeiten erfordern. Nutzt euren Teamgeist und kritisches Denken, um die Ausbreitung des Virus zu stoppen! Bereit für das ultimative Abenteuer?
LOCATION:Campus-Platz 1, 3100 St. Pölten
GEO:48.21313058;15.63179719
END:VEVENT
END:VCALENDAR