BEGIN:VCALENDAR
VERSION:2.0
PRODID:-//ERT//LNF26//DE
VERSION:2.0
BEGIN:VEVENT
UID:station_6511_20260324T160000Z
DTSTAMP:20260421T002300Z
URL:https://ert.langenachtderforschung.at/station/6511
DTSTART:20260324T160000Z
DTEND:20260424T184500Z
SUMMARY:[LNF26] Exhibition &#34;Words divide, pictures unite&#34; - Revisiting Otto Neurath&#39;s Isotype at 100
DESCRIPTION:100 years ago, Otto Neurath and his team in Vienna began developing what would become the ISOTYPE (International System of Typographic Picture Education). Started in the context of post-World War I Austria as a practical method for educating the public about social and economic conditions, it has become a reference point in the history of visual communication which still resonates in today’s visualization guidelines.
LOCATION:Campus-Platz 1, 3100 St. Pölten
GEO:48.21313058;15.63179719
END:VEVENT
END:VCALENDAR