BEGIN:VCALENDAR
VERSION:2.0
PRODID:-//ERT//LNF26//DE
VERSION:2.0
BEGIN:VEVENT
UID:station_6512_20260324T160000Z
DTSTAMP:20260421T002300Z
URL:https://ert.langenachtderforschung.at/station/6512
DTSTART:20260324T160000Z
DTEND:20260424T184500Z
SUMMARY:[LNF26] Wie trägt das kooperative Doktoratsprogramm „Visual Heritage“ bei, unser kulturelles Erbe zu bewahren?
DESCRIPTION:Digitale Technologien erleichtern die Bewahrung unseres kulturellen Erbes. Historische Fotos und Filme stehen mittlerweile in großen digitalisierten Sammlungen zur Verfügung. In unserem kooperativen Doktoratsprogramm Visual Heritage (USTP mit TU Wien) entwickeln wir interdisziplinäre Ansätze aus Informatik und Geisteswissenschaften, um diese Sammlungen zugänglich zu machen.
LOCATION:Campus-Platz 1, 3100 St. Pölten
GEO:48.21313058;15.63179719
END:VEVENT
END:VCALENDAR