BEGIN:VCALENDAR
VERSION:2.0
PRODID:-//ERT//LNF26//DE
VERSION:2.0
BEGIN:VEVENT
UID:station_6513_20260324T160000Z
DTSTAMP:20260421T002200Z
URL:https://ert.langenachtderforschung.at/station/6513
DTSTART:20260324T160000Z
DTEND:20260424T184500Z
SUMMARY:[LNF26] Wie kann man Daten erlebbar machen?
DESCRIPTION:Wie können Comics das Lernen von Statistik und Diagrammen erleichtern? Können wir Sensordaten aus der Umgebung direkt in Extended Reality sichtbar machen? Wie wird „soziales Kapital“ sichtbar? Wie kann Fachwissen bei der Analyse von industriellen Fertigungsdaten unterstützen?
LOCATION:Campus-Platz 1, 3100 St. Pölten
GEO:48.21313058;15.63179719
END:VEVENT
END:VCALENDAR