BEGIN:VCALENDAR
VERSION:2.0
PRODID:-//ERT//LNF26//DE
VERSION:2.0
BEGIN:VEVENT
UID:station_6515_20260324T160000Z
DTSTAMP:20260421T002400Z
URL:https://ert.langenachtderforschung.at/station/6515
DTSTART:20260324T160000Z
DTEND:20260424T184500Z
SUMMARY:[LNF26] Wie kann man Animation in Auftragsfilmen sichtbar machen?
DESCRIPTION:ANIVIS ist eine interaktive Plattform, mit der sich animierte Auftragsfilme aus der Zeit des kalten Krieges neu entdecken lassen. Herzstück ist ein dreidimensionales Netzwerk, das Filme, beteiligte Personen, Produktionsfirmen und Animationstechniken miteinander verbindet. So lassen sich Entwicklungen in der Animationspraxis ebenso intuitiv erkunden wie Verbindungen zwischen Filmschaffenden und Produktionskontexten.
LOCATION:Campus-Platz 1, 3100 St. Pölten
GEO:48.21313058;15.63179719
END:VEVENT
END:VCALENDAR