BEGIN:VCALENDAR
VERSION:2.0
PRODID:-//ERT//LNF26//DE
VERSION:2.0
BEGIN:VEVENT
UID:station_6516_20260324T160000Z
DTSTAMP:20260421T002300Z
URL:https://ert.langenachtderforschung.at/station/6516
DTSTART:20260324T160000Z
DTEND:20260424T184500Z
SUMMARY:[LNF26] Was kann die Künstliche Intelligenz (KI) heute – und morgen?
DESCRIPTION:Das Center für Artificial Intelligence der USTP stellt sich vor. Vorbeikommen und die neuesten AI-Demos direkt ausprobieren!
LOCATION:Campus-Platz 1, 3100 St. Pölten
GEO:48.21313058;15.63179719
END:VEVENT
END:VCALENDAR