BEGIN:VCALENDAR
VERSION:2.0
PRODID:-//ERT//LNF26//DE
VERSION:2.0
BEGIN:VEVENT
UID:station_6517_20260324T160000Z
DTSTAMP:20260421T002500Z
URL:https://ert.langenachtderforschung.at/station/6517
DTSTART:20260324T160000Z
DTEND:20260424T184500Z
SUMMARY:[LNF26] CounterHelp: Wie nutze ich KI, um Hassrede zu kontern?
DESCRIPTION:Mit der App CounterHelp unterstützen wir Jugendliche und junge Menschen dabei, auf Hasskommentare auf TikTok mit wirkungsvoller Gegenrede zu reagieren.
LOCATION:Campus-Platz 1, 3100 St. Pölten
GEO:48.21313058;15.63179719
END:VEVENT
END:VCALENDAR