BEGIN:VCALENDAR
VERSION:2.0
PRODID:-//ERT//LNF26//DE
VERSION:2.0
BEGIN:VEVENT
UID:station_6518_20260324T160000Z
DTSTAMP:20260421T002500Z
URL:https://ert.langenachtderforschung.at/station/6518
DTSTART:20260324T160000Z
DTEND:20260424T184500Z
SUMMARY:[LNF26] Wie reden Elefanten miteinander?
DESCRIPTION:Afrikanische Elefanten kommunizieren intensiv über Lautäußerungen, die wichtige Informationen über ihre Lebenssituation enthalten. Es ist aber bisher noch unklar, welche Muster es in den Lautäußerungen gibt, über die diese Informationen übermittelt werden. Unser Ziel ist es, mit Hilfe von Künstlicher Intelligenz (KI) die Elefantenkommunikation zu entschlüsseln.
LOCATION:Campus-Platz 1, 3100 St. Pölten
GEO:48.21313058;15.63179719
END:VEVENT
END:VCALENDAR