BEGIN:VCALENDAR
VERSION:2.0
PRODID:-//ERT//LNF26//DE
VERSION:2.0
BEGIN:VEVENT
UID:station_6519_20260324T160000Z
DTSTAMP:20260421T002300Z
URL:https://ert.langenachtderforschung.at/station/6519
DTSTART:20260324T160000Z
DTEND:20260424T184500Z
SUMMARY:[LNF26] Wer hat es geschrieben? Buchdetektiv:innen bei der Arbeit in mittelalterlichen Manuskripten
DESCRIPTION:In Niederösterreich gibt es viele alte Klöster mit langen Traditionen. Schon im 12. Jahrhundert sammelten Mönche Bücher und bauten große Bibliotheken. Unser Prototyp analysiert mit KI die Handschriften in den Manuskripten und zeigt, welche Schreiber an welchen Seiten gearbeitet haben. So wird für die Buchforscher:innen die Buchproduktion besser nachvollziehbar.
LOCATION:Campus-Platz 1, 3100 St. Pölten
GEO:48.21313058;15.63179719
END:VEVENT
END:VCALENDAR