BEGIN:VCALENDAR
VERSION:2.0
PRODID:-//ERT//LNF26//DE
VERSION:2.0
BEGIN:VEVENT
UID:station_6520_20260324T160000Z
DTSTAMP:20260421T015600Z
URL:https://ert.langenachtderforschung.at/station/6520
DTSTART:20260324T160000Z
DTEND:20260424T184500Z
SUMMARY:[LNF26] What exactly is a European University Alliance and how does it actually work?
DESCRIPTION:E³UDRES² is a European University Alliance connecting students, researchers, and citizens from nine countries to shape the future of higher education. Visit our E³UDRES² stand to discover how universities collaborate across Europe, explore learning opportunities, and engage with our international community. Enjoy a Mini Science Pub Quiz, pick up some goodies, and get exciting insights into our unique network!
LOCATION:Campus-Platz 1, 3100 St. Pölten
GEO:48.21313058;15.63179719
END:VEVENT
END:VCALENDAR