BEGIN:VCALENDAR
VERSION:2.0
PRODID:-//ERT//LNF26//DE
VERSION:2.0
BEGIN:VEVENT
UID:station_6521_20260324T160000Z
DTSTAMP:20260421T002100Z
URL:https://ert.langenachtderforschung.at/station/6521
DTSTART:20260324T160000Z
DTEND:20260424T184500Z
SUMMARY:[LNF26] Radio für alle! Campus &amp; City Radio kennenlernen
DESCRIPTION:Das Campus & City Radio St. Pölten ist Ausbildungsradio für die Studierenden aller Studienrichtungen der University of Applied Sciences St. Pölten (USTP) und Freies Radio für alle Bürger:innen. Wer Lust hat, kann im Rahmen der Langen Nacht der Forschung das Radiostudio kennenlernen und mit einem Musikwunsch on air gehen.
LOCATION:Campus-Platz 1, 3100 St. Pölten
GEO:48.21313058;15.63179719
END:VEVENT
END:VCALENDAR