BEGIN:VCALENDAR
VERSION:2.0
PRODID:-//ERT//LNF26//DE
VERSION:2.0
BEGIN:VEVENT
UID:station_6523_20260324T160000Z
DTSTAMP:20260421T002300Z
URL:https://ert.langenachtderforschung.at/station/6523
DTSTART:20260324T160000Z
DTEND:20260424T184500Z
SUMMARY:[LNF26] Wie steuere ich einen Zug und wie bringe ich Waggons auf das richtige Gleis?
DESCRIPTION:Am Loksimulator einer modernen Vectron Lok kannst du selbst einen Zug über die Westbahnstrecke steuern. Du kannst probieren, wie schnell ein Personenzug beschleunigt oder wie lange ein schwerer Güterzug braucht, bis er zum Stillstand kommt. Im Verschubspiel musst du knifflige Aufgaben an einer Modellbahnanlage lösen: die Waggons müssen so schnell wie möglich mit der Verschublok an ihre Bestimmungsorte gebracht werden
LOCATION:Campus-Platz 1, 3100 St. Pölten
GEO:48.21313058;15.63179719
END:VEVENT
END:VCALENDAR