BEGIN:VCALENDAR
VERSION:2.0
PRODID:-//ERT//LNF26//DE
VERSION:2.0
BEGIN:VEVENT
UID:station_6524_20260324T160000Z
DTSTAMP:20260420T003100Z
URL:https://ert.langenachtderforschung.at/station/6524
DTSTART:20260324T160000Z
DTEND:20260424T210000Z
SUMMARY:[LNF26] Gridlock: Wie vermeidet man einen Verkehrskollaps?
DESCRIPTION:In dieser interaktiven Verkehrssimulation steuern die Spielenden jeweils eine eigene Ampel in einem gemeinsamen Straßennetz. Während Autos automatisch durch die Stadt fahren, beeinflusst jede Entscheidung an den Kreuzungen den Verkehrsfluss des gesamten Systems.
LOCATION:Eggenberger Allee 11+13, Eckertstraße 7a+30i, 8020 Graz
GEO:47.06940355;15.40670826
END:VEVENT
END:VCALENDAR