BEGIN:VCALENDAR
VERSION:2.0
PRODID:-//ERT//LNF26//DE
VERSION:2.0
BEGIN:VEVENT
UID:station_6538_20260324T160000Z
DTSTAMP:20260420T003000Z
URL:https://ert.langenachtderforschung.at/station/6538
DTSTART:20260324T160000Z
DTEND:20260424T210000Z
SUMMARY:[LNF26] Computational Intelligence: Was können Computer von Ameisen lernen?
DESCRIPTION:Die Natur kennt viele Wege, um komplexe Probleme zu lösen – von der Evolution über die Organisation eines Ameisenschwarms bis hin zum menschlichen Gehirn. In der Computational Intelligence übernehmen wir solche Strategien, um Aufgaben aus Wirtschaft, Informatik, Naturwissenschaft und Technik zu meistern. Zudem können wir uns in Simulationen viele Phänomene „im Zeitraffer“ ansehen.
LOCATION:Eggenberger Allee 11+13, Eckertstraße 7a+30i, 8020 Graz
GEO:47.06940355;15.40670826
END:VEVENT
END:VCALENDAR