BEGIN:VCALENDAR
VERSION:2.0
PRODID:-//ERT//LNF26//DE
VERSION:2.0
BEGIN:VEVENT
UID:station_6540_20260324T160000Z
DTSTAMP:20260420T003000Z
URL:https://ert.langenachtderforschung.at/station/6540
DTSTART:20260324T160000Z
DTEND:20260424T210000Z
SUMMARY:[LNF26] Welche Hilfestellungen könnte eine smarte Wohnung in Zukunft bieten?
DESCRIPTION:Beispielsweise ein Smart Mirror. Was das ist? Das ist ein intelligenter Spiegel im Badezimmer. Dieser kann idealerweise in AAL-Umgebungen zum Einsatz kommen und bietet Betroffenen die Möglichkeit, sich beispielsweise an Medikationen erinnern zu lassen oder Empfehlungen für den Alltag zu geben.
LOCATION:Eggenberger Allee 11+13, Eckertstraße 7a+30i, 8020 Graz
GEO:47.06940355;15.40670826
END:VEVENT
END:VCALENDAR