BEGIN:VCALENDAR
VERSION:2.0
PRODID:-//ERT//LNF26//DE
VERSION:2.0
BEGIN:VEVENT
UID:station_6541_20260324T160000Z
DTSTAMP:20260420T003000Z
URL:https://ert.langenachtderforschung.at/station/6541
DTSTART:20260324T160000Z
DTEND:20260424T210000Z
SUMMARY:[LNF26] Macht Künstliche Intelligenz unsere digitale Welt sicherer oder gefährlicher?
DESCRIPTION:KI kann Hacker:innen stoppen, aber auch neue Angriffe ermöglichen. Wir untersuchen, wie sich KI-Technologien auf die Sicherheit von Handy, Computer und Internet auswirken. Erfahren Sie an unserer Station, wo die Chancen und Risiken liegen: Schützt uns die Technik bereits zuverlässig oder öffnen sich neue Hintertüren? Lernen Sie praktische Tipps, wie Sie sich selbst in der digitalen Welt effektiv schützen können.
LOCATION:Eggenberger Allee 11+13, Eckertstraße 7a+30i, 8020 Graz
GEO:47.06940355;15.40670826
END:VEVENT
END:VCALENDAR