BEGIN:VCALENDAR
VERSION:2.0
PRODID:-//ERT//LNF26//DE
VERSION:2.0
BEGIN:VEVENT
UID:station_6548_20260324T160000Z
DTSTAMP:20260420T003000Z
URL:https://ert.langenachtderforschung.at/station/6548
DTSTART:20260324T160000Z
DTEND:20260424T210000Z
SUMMARY:[LNF26] Kann die KI Ihr Gemüse retten?
DESCRIPTION:Hightech trifft Hochbeet! Unser von Studierenden aufgebauter FarmBot pflanzt, pflegt und wird bald mit Kamera und KI ausgestattet. Er erkennt Gemüsepflanzen selbstständig und entfernt Unkraut gezielt mit einem Laser. Seien Sie dabei, wenn intelligente Landtechnik von morgen entsteht!
LOCATION:Eggenberger Allee 11+13, Eckertstraße 7a+30i, 8020 Graz
GEO:47.06940355;15.40670826
END:VEVENT
END:VCALENDAR