BEGIN:VCALENDAR
VERSION:2.0
PRODID:-//ERT//LNF26//DE
VERSION:2.0
BEGIN:VEVENT
UID:station_6551_20260324T160000Z
DTSTAMP:20260420T003000Z
URL:https://ert.langenachtderforschung.at/station/6551
DTSTART:20260324T160000Z
DTEND:20260424T210000Z
SUMMARY:[LNF26] Ist das noch ein Drucker – oder schon eine Fabrik?
DESCRIPTION:Vom 3D-Scanner über eine CAD-Skizze zum funktionsfähigen Prototyp in Rekordzeit: Mit unserem BigRep XXL-3D-Drucker entstehen im Prototyping-Lab Bauteile im Industrieformat. Vorbeischauen und ausprobieren!
LOCATION:Eggenberger Allee 11+13, Eckertstraße 7a+30i, 8020 Graz
GEO:47.06940355;15.40670826
END:VEVENT
END:VCALENDAR