BEGIN:VCALENDAR
VERSION:2.0
PRODID:-//ERT//LNF26//DE
VERSION:2.0
BEGIN:VEVENT
UID:station_6552_20260324T160000Z
DTSTAMP:20260420T002900Z
URL:https://ert.langenachtderforschung.at/station/6552
DTSTART:20260324T160000Z
DTEND:20260424T210000Z
SUMMARY:[LNF26] Ich bin aus Plastik - wer holt mich hier raus?
DESCRIPTION:Parallel zur gleichnamigen Informationskampagne der Holding Graz gibt es hier nicht nur praktische Tipps rund um das richtige Sammeln von Biomüll, sondern auch Infos, warum Plastik im Biomüll problematisch ist und wie Sie ganz einfach eine Biomüll-Sammelbox selber bauen.
LOCATION:Eggenberger Allee 11+13, Eckertstraße 7a+30i, 8020 Graz
GEO:47.06940355;15.40670826
END:VEVENT
END:VCALENDAR