BEGIN:VCALENDAR
VERSION:2.0
PRODID:-//ERT//LNF26//DE
VERSION:2.0
BEGIN:VEVENT
UID:station_6566_20260424T180000Z
DTSTAMP:20260420T020600Z
URL:https://ert.langenachtderforschung.at/station/6566
DTSTART:20260424T180000Z
DTEND:20260424T190000Z
SUMMARY:[LNF26] Möchten Sie eine Zaubershow der besonderen Art erleben?
DESCRIPTION:Seien Sie dabei, wenn es kracht, blitzt und raucht. Erleben Sie chemische Experimente hautnah!
LOCATION:Eggenberger Allee 11+13, Eckertstraße 7a+30i, 8020 Graz
GEO:47.06940355;15.40670826
END:VEVENT
END:VCALENDAR