BEGIN:VCALENDAR
VERSION:2.0
PRODID:-//ERT//LNF26//DE
VERSION:2.0
BEGIN:VEVENT
UID:station_6600_20260324T160000Z
DTSTAMP:20260420T070400Z
URL:https://ert.langenachtderforschung.at/station/6600
DTSTART:20260324T160000Z
DTEND:20260424T180000Z
SUMMARY:[LNF26] Flappy Bird: Wie lange benötigen Sie, um Ihr erstes eigenes Computerspiel zu programmieren?
DESCRIPTION:In einer benutzerfreundlichen Programmierumgebung lernen Sie Schritt für Schritt, wie man dieses Spiel selbst programmiert. Kein Vorwissen erforderlich – einfach loslegen und das erste eigene Spiel erschaffen!
LOCATION:Werk-VI-Straße 46 (Hightech-Campus), Wiener Straße 25 (Gesundheitscampus), 8605 Kapfenberg
GEO:47.45386160;15.33173550
END:VEVENT
END:VCALENDAR